{
 "currentVersion": 10.61,
 "serviceDescription": "Oblique_Imagery/Knysna_Oblique_Dataset",
 "name": "Oblique_Imagery/Knysna_Oblique_Dataset",
 "description": "",
 "extent": {
  "xmin": -26969.28027161768,
  "ymin": -3774457.4088058383,
  "xmax": 13414.037430887278,
  "ymax": -3752141.8199284566,
  "spatialReference": {
   "wkt": "PROJCS[\"Transverse_Mercator\",GEOGCS[\"Geographic Coordinate System\",DATUM[\"WGS84\",SPHEROID[\"WGS84\",6378137.0,298.257223560493]],PRIMEM[\"Greenwich\",0.0],UNIT[\"degree\",0.0174532925199433]],PROJECTION[\"Transverse_Mercator\"],PARAMETER[\"false_easting\",0.0],PARAMETER[\"false_northing\",0.0],PARAMETER[\"central_meridian\",23.0],PARAMETER[\"scale_factor\",1.0],PARAMETER[\"latitude_of_origin\",0.0],UNIT[\"Meter\",1.0]]"
  }
 },
 "initialExtent": {
  "xmin": -26969.28027161768,
  "ymin": -3774457.4088058383,
  "xmax": 13414.037430887278,
  "ymax": -3752141.8199284566,
  "spatialReference": {
   "wkt": "PROJCS[\"Transverse_Mercator\",GEOGCS[\"Geographic Coordinate System\",DATUM[\"WGS84\",SPHEROID[\"WGS84\",6378137.0,298.257223560493]],PRIMEM[\"Greenwich\",0.0],UNIT[\"degree\",0.0174532925199433]],PROJECTION[\"Transverse_Mercator\"],PARAMETER[\"false_easting\",0.0],PARAMETER[\"false_northing\",0.0],PARAMETER[\"central_meridian\",23.0],PARAMETER[\"scale_factor\",1.0],PARAMETER[\"latitude_of_origin\",0.0],UNIT[\"Meter\",1.0]]"
  }
 },
 "fullExtent": {
  "xmin": -26969.28027161768,
  "ymin": -3774457.4088058383,
  "xmax": 13414.037430887278,
  "ymax": -3752141.8199284566,
  "spatialReference": {
   "wkt": "PROJCS[\"Transverse_Mercator\",GEOGCS[\"Geographic Coordinate System\",DATUM[\"WGS84\",SPHEROID[\"WGS84\",6378137.0,298.257223560493]],PRIMEM[\"Greenwich\",0.0],UNIT[\"degree\",0.0174532925199433]],PROJECTION[\"Transverse_Mercator\"],PARAMETER[\"false_easting\",0.0],PARAMETER[\"false_northing\",0.0],PARAMETER[\"central_meridian\",23.0],PARAMETER[\"scale_factor\",1.0],PARAMETER[\"latitude_of_origin\",0.0],UNIT[\"Meter\",1.0]]"
  }
 },
 "pixelSizeX": 0.055679700780671935,
 "pixelSizeY": 0.055679700780672324,
 "bandCount": 3,
 "pixelType": "U8",
 "minPixelSize": 0,
 "maxPixelSize": 0,
 "copyrightText": "",
 "serviceDataType": "esriImageServiceDataTypeRGB",
 "minValues": [
  0,
  7,
  7
 ],
 "maxValues": [
  255,
  255,
  255
 ],
 "meanValues": [
  66.15477730000008,
  74.8672208081806,
  69.68096345682099
 ],
 "stdvValues": [
  35.624820724101895,
  30.342829680727114,
  29.486070628037794
 ],
 "objectIdField": "OBJECTID",
 "fields": [
  {
   "name": "OBJECTID",
   "type": "esriFieldTypeOID",
   "alias": "OBJECTID",
   "domain": null
  },
  {
   "name": "Shape",
   "type": "esriFieldTypeGeometry",
   "alias": "Shape",
   "domain": null
  },
  {
   "name": "Name",
   "type": "esriFieldTypeString",
   "alias": "Name",
   "domain": null,
   "length": 200
  },
  {
   "name": "MinPS",
   "type": "esriFieldTypeDouble",
   "alias": "MinPS",
   "domain": null
  },
  {
   "name": "MaxPS",
   "type": "esriFieldTypeDouble",
   "alias": "MaxPS",
   "domain": null
  },
  {
   "name": "LowPS",
   "type": "esriFieldTypeDouble",
   "alias": "LowPS",
   "domain": null
  },
  {
   "name": "HighPS",
   "type": "esriFieldTypeDouble",
   "alias": "HighPS",
   "domain": null
  },
  {
   "name": "Category",
   "type": "esriFieldTypeInteger",
   "alias": "Category",
   "domain": {
    "type": "codedValue",
    "name": "MosaicCatalogItemCategoryDomain",
    "description": "Catalog item categories.",
    "codedValues": [
     {
      "name": "Unknown",
      "code": 0
     },
     {
      "name": "Primary",
      "code": 1
     },
     {
      "name": "Overview",
      "code": 2
     },
     {
      "name": "Unprocessed Overview",
      "code": 3
     },
     {
      "name": "Partial Overview",
      "code": 4
     },
     {
      "name": "Inactive",
      "code": 5
     },
     {
      "name": "Uploaded",
      "code": 253
     },
     {
      "name": "Incomplete",
      "code": 254
     },
     {
      "name": "Custom",
      "code": 255
     }
    ],
    "mergePolicy": "esriMPTDefaultValue",
    "splitPolicy": "esriSPTDefaultValue"
   }
  },
  {
   "name": "Tag",
   "type": "esriFieldTypeString",
   "alias": "Tag",
   "domain": null,
   "length": 100
  },
  {
   "name": "GroupName",
   "type": "esriFieldTypeString",
   "alias": "GroupName",
   "domain": null,
   "length": 100
  },
  {
   "name": "ProductName",
   "type": "esriFieldTypeString",
   "alias": "ProductName",
   "domain": null,
   "length": 100
  },
  {
   "name": "CenterX",
   "type": "esriFieldTypeDouble",
   "alias": "CenterX",
   "domain": null
  },
  {
   "name": "CenterY",
   "type": "esriFieldTypeDouble",
   "alias": "CenterY",
   "domain": null
  },
  {
   "name": "ZOrder",
   "type": "esriFieldTypeInteger",
   "alias": "ZOrder",
   "domain": null
  },
  {
   "name": "Shape_Length",
   "type": "esriFieldTypeDouble",
   "alias": "Shape_Length",
   "domain": null
  },
  {
   "name": "Shape_Area",
   "type": "esriFieldTypeDouble",
   "alias": "Shape_Area",
   "domain": null
  },
  {
   "name": "SensorAzimuth",
   "type": "esriFieldTypeDouble",
   "alias": "Sensor Azimuth",
   "domain": null
  },
  {
   "name": "SensorElevation",
   "type": "esriFieldTypeDouble",
   "alias": "Sensor Elevation",
   "domain": null
  },
  {
   "name": "OBJECTID_1",
   "type": "esriFieldTypeInteger",
   "alias": "OBJECTID",
   "domain": null
  },
  {
   "name": "CameraID",
   "type": "esriFieldTypeString",
   "alias": "CameraID",
   "domain": null,
   "length": 8000
  },
  {
   "name": "PerspectiveX",
   "type": "esriFieldTypeDouble",
   "alias": "PerspectiveX",
   "domain": null
  },
  {
   "name": "PerspectiveY",
   "type": "esriFieldTypeDouble",
   "alias": "PerspectiveY",
   "domain": null
  },
  {
   "name": "PerspectiveZ",
   "type": "esriFieldTypeDouble",
   "alias": "PerspectiveZ",
   "domain": null
  }
 ],
 "capabilities": "Image,Metadata,Catalog,Mensuration",
 "defaultMosaicMethod": "Northwest",
 "allowedMosaicMethods": "NorthWest,Center,LockRaster,ByAttribute,Nadir,Viewpoint,Seamline,None",
 "sortField": "",
 "sortValue": null,
 "mosaicOperator": "First",
 "maxDownloadSizeLimit": 2048,
 "defaultCompressionQuality": 75,
 "defaultResamplingMethod": "Bilinear",
 "maxImageHeight": 4100,
 "maxImageWidth": 15000,
 "maxRecordCount": 1000,
 "maxDownloadImageCount": 20,
 "maxMosaicImageCount": 20,
 "allowRasterFunction": true,
 "rasterFunctionInfos": [
  {
   "name": "None",
   "description": "A No-Op Function.",
   "help": ""
  }
 ],
 "rasterTypeInfos": [
  {
   "name": "Raster Dataset",
   "description": "Supports all ArcGIS Raster Datasets",
   "help": ""
  }
 ],
 "mensurationCapabilities": "Basic,Base-Top Height,3D",
 "hasHistograms": true,
 "hasColormap": false,
 "hasRasterAttributeTable": false,
 "minScale": 0,
 "maxScale": 0,
 "exportTilesAllowed": false,
 "hasMultidimensions": false,
 "supportsStatistics": true,
 "supportsAdvancedQueries": true,
 "editFieldsInfo": null,
 "ownershipBasedAccessControlForRasters": null,
 "allowComputeTiePoints": false,
 "useStandardizedQueries": true,
 "advancedQueryCapabilities": {
  "useStandardizedQueries": true,
  "supportsStatistics": true,
  "supportsOrderBy": true,
  "supportsDistinct": true,
  "supportsPagination": true
 },
 "spatialReference": {
  "wkt": "PROJCS[\"Transverse_Mercator\",GEOGCS[\"Geographic Coordinate System\",DATUM[\"WGS84\",SPHEROID[\"WGS84\",6378137.0,298.257223560493]],PRIMEM[\"Greenwich\",0.0],UNIT[\"degree\",0.0174532925199433]],PROJECTION[\"Transverse_Mercator\"],PARAMETER[\"false_easting\",0.0],PARAMETER[\"false_northing\",0.0],PARAMETER[\"central_meridian\",23.0],PARAMETER[\"scale_factor\",1.0],PARAMETER[\"latitude_of_origin\",0.0],UNIT[\"Meter\",1.0]]"
 }
}
