View In:
ArcGIS JavaScript
ArcGIS Online Map Viewer
ArcGIS Earth
ArcMap
View Footprint In:
ArcGIS Online Map Viewer
Service Description: Knysna Oblique Imagery Subset
Name: Oblique_Imagery/Knysna_Oblique_Subset
Description: Knysna Oblique Imagery Subset
Single Fused Map Cache: false
Extent:
XMin: 3040.241578853343
YMin: -3769121.3855416924
XMax: 5874.575163955948
YMax: -3766388.4983971613
Spatial Reference: PROJCS["WGS23",GEOGCS["GCS_WGS_1984",DATUM["D_WGS_1984",SPHEROID["WGS_1984",6378137.0,298.257223563]],PRIMEM["Greenwich",0.0],UNIT["Degree",0.0174532925199433]],PROJECTION["Transverse_Mercator"],PARAMETER["false_easting",0.0],PARAMETER["false_northing",0.0],PARAMETER["central_meridian",23.0],PARAMETER["scale_factor",1.0],PARAMETER["latitude_of_origin",0.0],UNIT["Meter",1.0]]
Initial Extent:
XMin: 3040.241578853343
YMin: -3769121.3855416924
XMax: 5874.575163955948
YMax: -3766388.4983971613
Spatial Reference: PROJCS["WGS23",GEOGCS["GCS_WGS_1984",DATUM["D_WGS_1984",SPHEROID["WGS_1984",6378137.0,298.257223563]],PRIMEM["Greenwich",0.0],UNIT["Degree",0.0174532925199433]],PROJECTION["Transverse_Mercator"],PARAMETER["false_easting",0.0],PARAMETER["false_northing",0.0],PARAMETER["central_meridian",23.0],PARAMETER["scale_factor",1.0],PARAMETER["latitude_of_origin",0.0],UNIT["Meter",1.0]]
Full Extent:
XMin: 3040.241578853343
YMin: -3769121.3855416924
XMax: 5874.575163955948
YMax: -3766388.4983971613
Spatial Reference: PROJCS["WGS23",GEOGCS["GCS_WGS_1984",DATUM["D_WGS_1984",SPHEROID["WGS_1984",6378137.0,298.257223563]],PRIMEM["Greenwich",0.0],UNIT["Degree",0.0174532925199433]],PROJECTION["Transverse_Mercator"],PARAMETER["false_easting",0.0],PARAMETER["false_northing",0.0],PARAMETER["central_meridian",23.0],PARAMETER["scale_factor",1.0],PARAMETER["latitude_of_origin",0.0],UNIT["Meter",1.0]]
Pixel Size X: 0.06776649336766538
Pixel Size Y: 0.06776649336766324
Band Count: 3
Pixel Type: U8
RasterFunction Infos: {"rasterFunctionInfos": [{
"name": "None",
"description": "A No-Op Function.",
"help": ""
}]}
Mensuration Capabilities: Basic,Base-Top Height,3D
Has Histograms: true
Has Colormap: false
Has Multi Dimensions : false
Rendering Rule:
Min Scale: 0
Max Scale: 0
Copyright Text:
Service Data Type: esriImageServiceDataTypeRGB
Min Values: 1, 4, 15
Max Values: 255, 255, 255
Mean Values: 105.08431899876128, 104.60212936058326, 95.11605176810113
Standard Deviation Values: 25.748440921946962, 23.562649780990085, 24.048347347651085
Object ID Field: OBJECTID
Fields:
-
OBJECTID
(
type: esriFieldTypeOID
, alias: OBJECTID
)
-
Shape
(
type: esriFieldTypeGeometry
, alias: Shape
)
-
Name
(
type: esriFieldTypeString
, alias: Name
, length: 200
)
-
MinPS
(
type: esriFieldTypeDouble
, alias: MinPS
)
-
MaxPS
(
type: esriFieldTypeDouble
, alias: MaxPS
)
-
LowPS
(
type: esriFieldTypeDouble
, alias: LowPS
)
-
HighPS
(
type: esriFieldTypeDouble
, alias: HighPS
)
-
Category
(
type: esriFieldTypeInteger
, alias: Category
, Coded Values:
[0: Unknown]
, [1: Primary]
, [2: Overview]
, ...6 more...
)
-
Tag
(
type: esriFieldTypeString
, alias: Tag
, length: 100
)
-
GroupName
(
type: esriFieldTypeString
, alias: GroupName
, length: 100
)
-
ProductName
(
type: esriFieldTypeString
, alias: ProductName
, length: 100
)
-
CenterX
(
type: esriFieldTypeDouble
, alias: CenterX
)
-
CenterY
(
type: esriFieldTypeDouble
, alias: CenterY
)
-
ZOrder
(
type: esriFieldTypeInteger
, alias: ZOrder
)
-
Shape_Length
(
type: esriFieldTypeDouble
, alias: Shape_Length
)
-
Shape_Area
(
type: esriFieldTypeDouble
, alias: Shape_Area
)
-
SensorAzimuth
(
type: esriFieldTypeDouble
, alias: Sensor Azimuth
)
-
SensorElevation
(
type: esriFieldTypeDouble
, alias: Sensor Elevation
)
-
CameraID
(
type: esriFieldTypeString
, alias: CameraID
, length: 255
)
-
PerspectiveX
(
type: esriFieldTypeDouble
, alias: PerspectiveX
)
-
PerspectiveY
(
type: esriFieldTypeDouble
, alias: PerspectiveY
)
-
PerspectiveZ
(
type: esriFieldTypeDouble
, alias: PerspectiveZ
)
Default Mosaic Method: Northwest
Allowed Mosaic Methods: NorthWest,Center,LockRaster,ByAttribute,Nadir,Viewpoint,Seamline,None
SortField:
SortValue: null
Mosaic Operator: First
Default Compression Quality: 75
Default Resampling Method: Bilinear
Max Record Count: 1000
Max Image Height: 4100
Max Image Width: 15000
Max Download Image Count: 20
Max Mosaic Image Count: 20
Allow Raster Function: true
Allow Compute TiePoints: false
Supports Statistics: true
Supports Advanced Queries: true
Use StandardizedQueries: true
Raster Type Infos:
Name: Raster Dataset
Description: Supports all ArcGIS Raster Datasets
Help:
Has Raster Attribute Table: false
Edit Fields Info: null
Ownership Based AccessControl For Rasters: null
Child Resources:
Info
Histograms
Key Properties
Legend
MultiDimensionalInfo
rasterFunctionInfos
Supported Operations:
Export Image
Query
Identify
Measure
Compute Histograms
Compute Statistics Histograms
Get Samples
Compute Class Statistics
Query Boundary