View In:
ArcGIS JavaScript
ArcGIS Online Map Viewer
ArcGIS Earth
ArcMap
View Footprint In:
ArcGIS Online Map Viewer
Service Description: Oblique_Imagery/Knysna_Oblique_Dataset
Name: Oblique_Imagery/Knysna_Oblique_Dataset
Description:
Single Fused Map Cache: false
Extent:
XMin: -26969.28027161768
YMin: -3774457.4088058383
XMax: 13414.037430887278
YMax: -3752141.8199284566
Spatial Reference: PROJCS["Transverse_Mercator",GEOGCS["Geographic Coordinate System",DATUM["WGS84",SPHEROID["WGS84",6378137.0,298.257223560493]],PRIMEM["Greenwich",0.0],UNIT["degree",0.0174532925199433]],PROJECTION["Transverse_Mercator"],PARAMETER["false_easting",0.0],PARAMETER["false_northing",0.0],PARAMETER["central_meridian",23.0],PARAMETER["scale_factor",1.0],PARAMETER["latitude_of_origin",0.0],UNIT["Meter",1.0]]
Initial Extent:
XMin: -26969.28027161768
YMin: -3774457.4088058383
XMax: 13414.037430887278
YMax: -3752141.8199284566
Spatial Reference: PROJCS["Transverse_Mercator",GEOGCS["Geographic Coordinate System",DATUM["WGS84",SPHEROID["WGS84",6378137.0,298.257223560493]],PRIMEM["Greenwich",0.0],UNIT["degree",0.0174532925199433]],PROJECTION["Transverse_Mercator"],PARAMETER["false_easting",0.0],PARAMETER["false_northing",0.0],PARAMETER["central_meridian",23.0],PARAMETER["scale_factor",1.0],PARAMETER["latitude_of_origin",0.0],UNIT["Meter",1.0]]
Full Extent:
XMin: -26969.28027161768
YMin: -3774457.4088058383
XMax: 13414.037430887278
YMax: -3752141.8199284566
Spatial Reference: PROJCS["Transverse_Mercator",GEOGCS["Geographic Coordinate System",DATUM["WGS84",SPHEROID["WGS84",6378137.0,298.257223560493]],PRIMEM["Greenwich",0.0],UNIT["degree",0.0174532925199433]],PROJECTION["Transverse_Mercator"],PARAMETER["false_easting",0.0],PARAMETER["false_northing",0.0],PARAMETER["central_meridian",23.0],PARAMETER["scale_factor",1.0],PARAMETER["latitude_of_origin",0.0],UNIT["Meter",1.0]]
Pixel Size X: 0.055679700780671935
Pixel Size Y: 0.055679700780672324
Band Count: 3
Pixel Type: U8
RasterFunction Infos: {"rasterFunctionInfos": [{
"name": "None",
"description": "A No-Op Function.",
"help": ""
}]}
Mensuration Capabilities: Basic,Base-Top Height,3D
Has Histograms: true
Has Colormap: false
Has Multi Dimensions : false
Rendering Rule:
Min Scale: 0
Max Scale: 0
Copyright Text:
Service Data Type: esriImageServiceDataTypeRGB
Min Values: 0, 7, 7
Max Values: 255, 255, 255
Mean Values: 66.15477730000008, 74.8672208081806, 69.68096345682099
Standard Deviation Values: 35.624820724101895, 30.342829680727114, 29.486070628037794
Object ID Field: OBJECTID
Fields:
-
OBJECTID
(
type: esriFieldTypeOID
, alias: OBJECTID
)
-
Shape
(
type: esriFieldTypeGeometry
, alias: Shape
)
-
Name
(
type: esriFieldTypeString
, alias: Name
, length: 200
)
-
MinPS
(
type: esriFieldTypeDouble
, alias: MinPS
)
-
MaxPS
(
type: esriFieldTypeDouble
, alias: MaxPS
)
-
LowPS
(
type: esriFieldTypeDouble
, alias: LowPS
)
-
HighPS
(
type: esriFieldTypeDouble
, alias: HighPS
)
-
Category
(
type: esriFieldTypeInteger
, alias: Category
, Coded Values:
[0: Unknown]
, [1: Primary]
, [2: Overview]
, ...6 more...
)
-
Tag
(
type: esriFieldTypeString
, alias: Tag
, length: 100
)
-
GroupName
(
type: esriFieldTypeString
, alias: GroupName
, length: 100
)
-
ProductName
(
type: esriFieldTypeString
, alias: ProductName
, length: 100
)
-
CenterX
(
type: esriFieldTypeDouble
, alias: CenterX
)
-
CenterY
(
type: esriFieldTypeDouble
, alias: CenterY
)
-
ZOrder
(
type: esriFieldTypeInteger
, alias: ZOrder
)
-
Shape_Length
(
type: esriFieldTypeDouble
, alias: Shape_Length
)
-
Shape_Area
(
type: esriFieldTypeDouble
, alias: Shape_Area
)
-
SensorAzimuth
(
type: esriFieldTypeDouble
, alias: Sensor Azimuth
)
-
SensorElevation
(
type: esriFieldTypeDouble
, alias: Sensor Elevation
)
-
OBJECTID_1
(
type: esriFieldTypeInteger
, alias: OBJECTID
)
-
CameraID
(
type: esriFieldTypeString
, alias: CameraID
, length: 8000
)
-
PerspectiveX
(
type: esriFieldTypeDouble
, alias: PerspectiveX
)
-
PerspectiveY
(
type: esriFieldTypeDouble
, alias: PerspectiveY
)
-
PerspectiveZ
(
type: esriFieldTypeDouble
, alias: PerspectiveZ
)
Default Mosaic Method: Northwest
Allowed Mosaic Methods: NorthWest,Center,LockRaster,ByAttribute,Nadir,Viewpoint,Seamline,None
SortField:
SortValue: null
Mosaic Operator: First
Default Compression Quality: 75
Default Resampling Method: Bilinear
Max Record Count: 1000
Max Image Height: 4100
Max Image Width: 15000
Max Download Image Count: 20
Max Mosaic Image Count: 20
Allow Raster Function: true
Allow Compute TiePoints: false
Supports Statistics: true
Supports Advanced Queries: true
Use StandardizedQueries: true
Raster Type Infos:
Name: Raster Dataset
Description: Supports all ArcGIS Raster Datasets
Help:
Has Raster Attribute Table: false
Edit Fields Info: null
Ownership Based AccessControl For Rasters: null
Child Resources:
Info
Histograms
Key Properties
Legend
MultiDimensionalInfo
rasterFunctionInfos
Supported Operations:
Export Image
Query
Identify
Measure
Compute Histograms
Compute Statistics Histograms
Get Samples
Compute Class Statistics
Query Boundary